BEGIN:VCALENDAR
VERSION:2.0
PRODID:-//hacksw/handcal//NONSGML v1.0//EN
CALSCALE:GREGORIAN
BEGIN:VEVENT
DTEND:20230322T003000Z
UID: 69ea65b9a9a03
DTSTAMP:20260423T133225Z
LOCATION:Denkmann Memorial Building
DESCRIPTION:The Augustana Jazz Combos will perform. The program is chosen to expand students’ abilities in various jazz styles\, with special emphasis on group interaction and improvisation.\n\nProgram:\n\nMonday Combo:\nBags' Groove (Milt Jackson)\nThere Will Never Be Another You (Mack Gordon and Harry Warren)\nSidewinder (Lee Morgan)\n\nTri-Tone City Septet:\nFour (Miles Davis and Eddie "Cleanhead" Vinson)\nOut of Nowhere (Edward Heyman and Johnny Green arr. Jeff Jarvis)\nWhat Do You Say\, Dr. J? (James Williams)\n\nCaniac Combo:\nFreight Trane (Tommy Flanagan)\nAppointment in Milano (Bobby Watson)\nHey Lock (Eddie "Lockjaw" Davis)\n
URL;VALUE=URI:https://augustana.edu/about-us/events/2023/augustana-jazz-combos
SUMMARY:Jazz Combos Concert
DTSTART:20230322T003000Z
END:VEVENT
END:VCALENDAR
