BEGIN:VCALENDAR
VERSION:2.0
PRODID:-//hacksw/handcal//NONSGML v1.0//EN
CALSCALE:GREGORIAN
BEGIN:VEVENT
DTEND:20230415T190000Z
UID: 69ea648d85001
DTSTAMP:20260423T132725Z
LOCATION:St. Paul Lutheran Church
DESCRIPTION:The&nbsp\;Augustana Choir will perform a home concert to conclude its&nbsp\;spring tour.\n\nThe 52-voice ensemble will sing a selection of traditional and contemporary choral works.&nbsp\;\n
URL;VALUE=URI:https://augustana.edu/about-us/events/2023/choir-home-concert
SUMMARY:Augustana Choir Home Concert
DTSTART:20230415T190000Z
END:VEVENT
END:VCALENDAR
