BEGIN:VCALENDAR
VERSION:2.0
PRODID:-//hacksw/handcal//NONSGML v1.0//EN
CALSCALE:GREGORIAN
BEGIN:VEVENT
DTEND:20230405T160000Z
UID: 69e5aae4c4301
DTSTAMP:20260419T232612Z
LOCATION:The Gerber Center for Student Life
DESCRIPTION:The Clothesline Project is an awareness event from 11 a.m.-1 p.m. for the Augustana community to express support for victims and survivors of gender-based violence.\n
URL;VALUE=URI:https://augustana.edu/about-us/events/2022/clothesline-project
SUMMARY:Clothesline Project
DTSTART:20230405T160000Z
END:VEVENT
END:VCALENDAR
