BEGIN:VCALENDAR
VERSION:2.0
PRODID:-//hacksw/handcal//NONSGML v1.0//EN
CALSCALE:GREGORIAN
BEGIN:VEVENT
DTEND:20191024T150000Z
UID: 69e531c3a3ed8
DTSTAMP:20260419T144923Z
LOCATION:Hanson Hall of Science
DESCRIPTION:In celebration of National Chemistry Week\, the chemistry department will be putting on a bake sale October 23 and 24 for the campus community. Periodic tables will also be on sale.\n
URL;VALUE=URI:https://augustana.edu/about-us/events/2019/national-chemistry-week-bake-sale-0
SUMMARY:National Chemistry Week bake sale
DTSTART:20191024T150000Z
END:VEVENT
END:VCALENDAR
