BEGIN:VCALENDAR
VERSION:2.0
PRODID:-//hacksw/handcal//NONSGML v1.0//EN
CALSCALE:GREGORIAN
BEGIN:VEVENT
DTEND:20191029T180000Z
UID: 69e87f5b4ea32
DTSTAMP:20260422T025715Z
LOCATION:Olin Center for Educational Technology
DESCRIPTION:The Scheduling Office will offer training sessions on how to use the recently upgraded Astra scheduling program.\n\nThe 30-45 minute sessions are open to everyone on campus. All are scheduled in Olin 109.\n\nOther training sessions will occur as follows:\n4 p.m.\, Wednesday\, Oct. 30\n9 a.m.\, Thursday\, Oct. 31\n11:15 a.m.\, Friday\, Nov. 1\n
URL;VALUE=URI:https://augustana.edu/about-us/events/2019/astra-program-training-0
SUMMARY:Astra program training
DTSTART:20191029T180000Z
END:VEVENT
END:VCALENDAR
