BEGIN:VCALENDAR
VERSION:2.0
PRODID:-//hacksw/handcal//NONSGML v1.0//EN
CALSCALE:GREGORIAN
BEGIN:VEVENT
DTEND:20191105T223000Z
UID: 69e85dbf6b6c4
DTSTAMP:20260422T003351Z
LOCATION:Hanson Hall of Science
DESCRIPTION:TriBeta biology honor society&nbsp\;and Pre-SOMA (Student Osteopathic Medical Association) will present a panel discussion on the&nbsp\;Texas Medical Center Summer Research Internship Program.\n\nStudents can learn about the&nbsp\;2019 cohort’s experience this past summer and what it is like to work in the largest medical center in the world.\n&nbsp\;\n
URL;VALUE=URI:https://augustana.edu/about-us/events/2019/texas-medical-center-summer-research-internship-panel
SUMMARY:Texas Medical Center Summer Research Internship panel
DTSTART:20191105T223000Z
END:VEVENT
END:VCALENDAR
