BEGIN:VCALENDAR
VERSION:2.0
PRODID:-//hacksw/handcal//NONSGML v1.0//EN
CALSCALE:GREGORIAN
BEGIN:VEVENT
DTEND:20191115T155500Z
UID: 69e7677ba608d
DTSTAMP:20260421T070307Z
LOCATION:Olin Center for Educational Technology
DESCRIPTION:The Augustana Freistat Center for Peace Studies will present Dr. Scott Morris\, founder and CEO of Church Health\, a faith-based\, non-profit organization located in Memphis\, Tenn.\n\nDr. Morris founded Church Health in 1987 to provide care for working\, uninsured people and their families. Church Health has grown to become the largest faith-based clinic of its type in the nation. Since inception\, Church Health has cared for more than 70\,000 patients.\n\nDr. Morris has an undergraduate degree from the University of Virginia\, a master of divinity from Yale University\, and M.D. from Emory University. He is a board-certified family practice physician and an ordained United Methodist minister.\n
URL;VALUE=URI:https://augustana.edu/about-us/events/2019/dr-scott-morris-philosophy-medicine
SUMMARY:Dr. Scott Morris: A Philosophy of Medicine
DTSTART:20191115T155500Z
END:VEVENT
END:VCALENDAR
