BEGIN:VCALENDAR
VERSION:2.0
PRODID:-//hacksw/handcal//NONSGML v1.0//EN
CALSCALE:GREGORIAN
BEGIN:VEVENT
DTEND:20191118T170000Z
UID: 69e88a485d05b
DTSTAMP:20260422T034352Z
LOCATION:The Gerber Center for Student Life
DESCRIPTION:Students can learn about new study abroad programs that will be offered in the next year.\n\nFaculty program directors and staff will be available to answer questions about specific programs\, the application process\, and scholarship opportunities. Applications begin today.\n
URL;VALUE=URI:https://augustana.edu/about-us/events/2019/2020-21-study-abroad-popup
SUMMARY:2020-21 study abroad popup
DTSTART:20191118T170000Z
END:VEVENT
END:VCALENDAR
