BEGIN:VCALENDAR
VERSION:2.0
PRODID:-//hacksw/handcal//NONSGML v1.0//EN
CALSCALE:GREGORIAN
BEGIN:VEVENT
DTEND:20191118T103000Z
UID: 69e72561a8ac5
DTSTAMP:20260421T022105Z
LOCATION:Olin Center for Educational Technology
DESCRIPTION:The Augustana Podcast Network will meet at 4:30 p.m. on Mondays in Olin 302 for the rest of fall semester.\n\nAll those interested in learning what Augustana Podcast Network is all about are encouraged to attend.\n\nHave an idea for a great Augie-related podcast episode/mini-series? Fill out this form and email it to livesofthemind@augustana.edu.\n\nLives of the Mind can provide the infrastructure (recording at WVIK’s studios\, editing guidance\, publication on livesofthemind.com and all major podcast platforms) for you to produce your own Augie-related high quality audio content.\n&nbsp\;\n
URL;VALUE=URI:https://augustana.edu/about-us/events/2019/augustana-podcast-network-meeting
SUMMARY:Augustana Podcast Network meeting 
DTSTART:20191118T103000Z
END:VEVENT
END:VCALENDAR
