BEGIN:VCALENDAR
VERSION:2.0
PRODID:-//hacksw/handcal//NONSGML v1.0//EN
CALSCALE:GREGORIAN
BEGIN:VEVENT
DTEND:20191124T000000Z
UID: 69e6947e28491
DTSTAMP:20260420T160254Z
LOCATION:Wilson Center
DESCRIPTION:All students are invited to Friendsgiving\, a dinner focusing on unity and gratitude for friendships.\n\nThis traditional dinner also will include international dishes catered by Manta\, Noodle House\, Taste of Ethiopia and dishes created by international students.\n\nStudents also are invited to participate in international karaoke and sing songs from their own or another culture/language.\n\nThe dinner is sponsored by the Global Engagement Team and Office of International Student and Success Services\, and marks the end of International Education Week.\n
URL;VALUE=URI:https://augustana.edu/about-us/events/2019/friendsgiving
SUMMARY:Friendsgiving
DTSTART:20191124T000000Z
END:VEVENT
END:VCALENDAR
