BEGIN:VCALENDAR
VERSION:2.0
PRODID:-//hacksw/handcal//NONSGML v1.0//EN
CALSCALE:GREGORIAN
BEGIN:VEVENT
DTEND:20191125T171500Z
UID: 69eb33f6d5d7c
DTSTAMP:20260424T041222Z
LOCATION:Old Main 
DESCRIPTION:Everybody who likes memes and history should come for lunchtime memes sponsored by the History Club. Come armed with your best memes!\n
URL;VALUE=URI:https://augustana.edu/about-us/events/2019/history-club-memes-meeting
SUMMARY:History Club memes meeting
DTSTART:20191125T171500Z
END:VEVENT
END:VCALENDAR
