BEGIN:VCALENDAR
VERSION:2.0
PRODID:-//hacksw/handcal//NONSGML v1.0//EN
CALSCALE:GREGORIAN
BEGIN:VEVENT
DTEND:20220108T010000Z
UID: 69e6f828d3c4e
DTSTAMP:20260420T230808Z
LOCATION:The Gerber Center for Student Life
DESCRIPTION:The Office of Student Life will host Winter Wonderland Bingo with prizes and cash. Seating is limited to 20 people per session.\n
URL;VALUE=URI:https://augustana.edu/about-us/events/2022/bingo-winter
SUMMARY:Winter Wonderland Bingo
DTSTART:20220108T010000Z
END:VEVENT
END:VCALENDAR
