BEGIN:VCALENDAR
VERSION:2.0
PRODID:-//hacksw/handcal//NONSGML v1.0//EN
CALSCALE:GREGORIAN
BEGIN:VEVENT
DTEND:20200308T010000Z
UID: 69e7a6553386d
DTSTAMP:20260421T113117Z
LOCATION:Centennial Hall
DESCRIPTION:Dr. Yusef Salaam\, one of the "Central Park Five" men exonerated of a&nbsp\;rape in 1989 in New York City’s Central Park\, will speak about the justice system.\n\nThis event&nbsp\;is free&nbsp\;but registration is required\n\nThis event commemorates the&nbsp\;Black Power Symposium&nbsp\;organized in 1969 by students in Augustana’s Afro-American Society\, which now is called the Black Student Union.\n\nDr. Salaam's appearance is hosted by the offices of Diversity\, Equity and Inclusion\, Alumni Relations\, and Advancement at Augustana College.\n
URL;VALUE=URI:https://augustana.edu/about-us/events/2020/evening-dr-yusef-salaam
SUMMARY:An Evening with Dr. Yusef Salaam
DTSTART:20200308T010000Z
END:VEVENT
END:VCALENDAR
