BEGIN:VCALENDAR
VERSION:2.0
PRODID:-//hacksw/handcal//NONSGML v1.0//EN
CALSCALE:GREGORIAN
BEGIN:VEVENT
DTEND:20200218T223000Z
UID: 69e6fadc30b10
DTSTAMP:20260420T231940Z
LOCATION:The Gerber Center for Student Life
DESCRIPTION:Interested students are invited to&nbsp\;the first meeting of the&nbsp\;Future Librarians Group&nbsp\;for a pizza party meet-and-greet to learn more about this field and the possible career paths it may lead to. The meeting will be held on the 2nd floor of the library.\n\nPlease RSVP by Monday\, February 17th if you would like pizza.\n
URL;VALUE=URI:https://augustana.edu/about-us/events/2020/future-librarians-group-meeting
SUMMARY:Future Librarians Group meeting
DTSTART:20200218T223000Z
END:VEVENT
END:VCALENDAR
