BEGIN:VCALENDAR
VERSION:2.0
PRODID:-//hacksw/handcal//NONSGML v1.0//EN
CALSCALE:GREGORIAN
BEGIN:VEVENT
DTEND:20200301T013000Z
UID: 69eb0f3361b6e
DTSTAMP:20260424T013531Z
LOCATION:Brunner Theatre Center
DESCRIPTION:Alpha Psi Omega National Theatre Honors Society will present the 16th annual production of Eve Ensler's play "The Vagina Monologues" to raise funds to prevent violence toward women.\n\nThe "Vagina Monologues" has been translated into 48 languages and performed in more than 140 countries. Author Eve Ensler also created V-Day\, a global movement to stop violence against women and girls. Through V-Day campaigns\, local volunteers and college students produce annual benefit performances.\n
URL;VALUE=URI:https://augustana.edu/about-us/events/2020/vagina-monologues-0
SUMMARY:The Vagina Monologues
DTSTART:20200301T013000Z
END:VEVENT
END:VCALENDAR
