BEGIN:VCALENDAR
VERSION:2.0
PRODID:-//hacksw/handcal//NONSGML v1.0//EN
CALSCALE:GREGORIAN
BEGIN:VEVENT
DTEND:20200304T000000Z
UID: 69ea001f34b63
DTSTAMP:20260423T061855Z
LOCATION:Olin Center for Educational Technology
DESCRIPTION:Play the Voting 101 Jeopardy game with Dr. Maurice Mangum\, visiting associate professor of political science&nbsp\;at Augustana.\n\nThe event is part of Diversity Week.\n
URL;VALUE=URI:https://augustana.edu/about-us/events/2020/voting-101
SUMMARY:Voting 101 'Jeopardy'
DTSTART:20200304T000000Z
END:VEVENT
END:VCALENDAR
