BEGIN:VCALENDAR
VERSION:2.0
PRODID:-//hacksw/handcal//NONSGML v1.0//EN
CALSCALE:GREGORIAN
BEGIN:VEVENT
DTEND:20200305T000000Z
UID: 69e9ff38e0672
DTSTAMP:20260423T061504Z
LOCATION:Olin Center for Educational Technology
DESCRIPTION:Katreena Alder\, teaching fellow of communication studies at Augustana\, will present&nbsp\;"Shades of Color in Television and Film."&nbsp\;\n\nThe event is part of Diversity Week.\n
URL;VALUE=URI:https://augustana.edu/about-us/events/2020/shades-of-color
SUMMARY:"Shades of Color in Television and Film"
DTSTART:20200305T000000Z
END:VEVENT
END:VCALENDAR
