BEGIN:VCALENDAR
VERSION:2.0
PRODID:-//hacksw/handcal//NONSGML v1.0//EN
CALSCALE:GREGORIAN
BEGIN:VEVENT
DTEND:20200305T160000Z
UID: 69e9ff3deb61a
DTSTAMP:20260423T061509Z
LOCATION:The Gerber Center for Student Life
DESCRIPTION:Dr. Monica Smith\, Augustana vice president of diversity\, equity and inclusion\, will present "Spill the Tea: Thoughts for Engagement and Action."\n\nThe panel is part of Diversity Week.\n
URL;VALUE=URI:https://augustana.edu/about-us/events/2020/spill-the-tea
SUMMARY:"Spill the Tea: Thoughts for Engagement and Action"
DTSTART:20200305T160000Z
END:VEVENT
END:VCALENDAR
