BEGIN:VCALENDAR
VERSION:2.0
PRODID:-//hacksw/handcal//NONSGML v1.0//EN
CALSCALE:GREGORIAN
BEGIN:VEVENT
DTEND:20200306T170000Z
UID: 69ed091e990fa
DTSTAMP:20260425T133406Z
LOCATION:The Gerber Center for Student Life
DESCRIPTION:De-Stress for Success is&nbsp\;a relaxation and mental health day from 11 a.m.-4 p.m.\, with painting and coloring stations\, DIY slime and stress ball station\, snacks\, free massages and spinal screening from 11 a.m.-3 p.m.\, and Btouch Fitness dance classes from 3-3:40 p.m.&nbsp\;\n\nThis event is part of Diversity Week.\n
URL;VALUE=URI:https://augustana.edu/about-us/events/2020/de-stress-success
SUMMARY:De-Stress for Success
DTSTART:20200306T170000Z
END:VEVENT
END:VCALENDAR
