BEGIN:VCALENDAR
VERSION:2.0
PRODID:-//hacksw/handcal//NONSGML v1.0//EN
CALSCALE:GREGORIAN
BEGIN:VEVENT
DTEND:20200306T003000Z
UID: 69ea007e592a2
DTSTAMP:20260423T062030Z
LOCATION:Hanson Hall of Science
DESCRIPTION:Dr. Noelle Yarish\, visiting assistant professor of political science\, and&nbsp\;Alexa Pedersen and Joselyn Pena from Hercampus will give a women's history "Ted Talk."\n\nThere will be free food and prizes.\n\nThe panel is part of Diversity Week.\n
URL;VALUE=URI:https://augustana.edu/about-us/events/2020/womens-history-ted-talk
SUMMARY:Women's history 'Ted Talk'
DTSTART:20200306T003000Z
END:VEVENT
END:VCALENDAR
