BEGIN:VCALENDAR
VERSION:2.0
PRODID:-//hacksw/handcal//NONSGML v1.0//EN
CALSCALE:GREGORIAN
BEGIN:VEVENT
DTEND:20200310T000000Z
UID: 69e8d340c0eca
DTSTAMP:20260422T085512Z
LOCATION:Olin Center for Educational Technology
DESCRIPTION:In celebration of International Women's Day\, the documentary "Girl Rising" will be shown March 9\, 16 and 19.\n\nThe movie tells the stories of nine girls from nine countries: (Sierra Leone\, Haiti\, Ethiopia\, Afghanistan\, Peru\, Egypt\, Nepal\, India and Cambodia).\n\nEach girl's story was written by a writer from her country and voiced by a well-known actor. Their stories reflect their struggles to overcome societal or cultural barriers.\n
URL;VALUE=URI:https://augustana.edu/about-us/events/2020/international-womens-day-film-girl-rising
SUMMARY:International Women's Day film: 'Girl Rising'
DTSTART:20200310T000000Z
END:VEVENT
END:VCALENDAR
