BEGIN:VCALENDAR
VERSION:2.0
PRODID:-//hacksw/handcal//NONSGML v1.0//EN
CALSCALE:GREGORIAN
BEGIN:VEVENT
DTEND:20221019T140000Z
UID: 69e8173a68a80
DTSTAMP:20260421T193258Z
LOCATION:
DESCRIPTION:The annual I-74 Graduate and Professional School Fair will be a one-day virtual event. Hours will be 9 a.m.-1 p.m.\n\nThe fair offers educational institutions&nbsp\;a chance to meet the best Illinois students from five schools in one virtual fair. Participants will include Augustana College\, Bradley University\, Knox College\, Millikin University and Monmouth College.&nbsp\;\n\nStudents can meet with more than 100 graduate programs (encompassing all majors). Juniors and seniors can ask the representatives about their admissions process. First-year and&nbsp\;sophomore students&nbsp\;can&nbsp\;hear about what you could study down the road if you are interested in pursuing further education\, and&nbsp\;see what types of activities you could focus on to be more competitive.\n\nThe fair will be held on the&nbsp\;Handshake platform. Register for one-on-one and group sessions.\n\nStudents should set up their Handshake profiles and upload their resumes. Set your profile to public.\n
URL;VALUE=URI:https://augustana.edu/about-us/events/2022/i-74-graduate-and-professional-school-fair
SUMMARY:Graduate and Professional School Fair
DTSTART:20221019T140000Z
END:VEVENT
END:VCALENDAR
