BEGIN:VCALENDAR
VERSION:2.0
PRODID:-//hacksw/handcal//NONSGML v1.0//EN
CALSCALE:GREGORIAN
BEGIN:VEVENT
DTEND:20200901T170000Z
UID: 69e9aff2d1fb8
DTSTAMP:20260423T003650Z
LOCATION:
DESCRIPTION:Augustana College and Genesis Health System will celebrate the opening of a convenient-care clinic for students and employees with a ribbon tying event.\n&nbsp\;\n
URL;VALUE=URI:https://augustana.edu/about-us/events/2020/clinic-ribbon-tying-celebration
SUMMARY:Clinic ribbon-tying celebration
DTSTART:20200901T170000Z
END:VEVENT
END:VCALENDAR
