BEGIN:VCALENDAR
VERSION:2.0
PRODID:-//hacksw/handcal//NONSGML v1.0//EN
CALSCALE:GREGORIAN
BEGIN:VEVENT
DTEND:20200902T010000Z
UID: 69e9b0535f288
DTSTAMP:20260423T003827Z
LOCATION:The Gerber Center for Student Life
DESCRIPTION:The MPB Comedy Club event scheduled for tonight in Gavle Room 3 has been canceled.&nbsp\;\n
URL;VALUE=URI:https://augustana.edu/about-us/events/2020/comedy-club-canceled
SUMMARY:Comedy Club canceled
DTSTART:20200902T010000Z
END:VEVENT
END:VCALENDAR
