BEGIN:VCALENDAR
VERSION:2.0
PRODID:-//hacksw/handcal//NONSGML v1.0//EN
CALSCALE:GREGORIAN
BEGIN:VEVENT
DTEND:20200912T010000Z
UID: 69eb2a7d96fa5
DTSTAMP:20260424T033157Z
LOCATION:The Gerber Center for Student Life
DESCRIPTION:Comedian and native Texan Jasmine Ellis will perform.&nbsp\;\n\nRaffle prizes will be given away.\n\nAfter hosting local radio shows in college and interviewing comedians\, Ellis decided to try it herself in 2013. She has&nbsp\; performed in Las Vegas\, New York\, and Los Angeles\, and earned spots on several festivals\, including Moon Tower Comedy Festival\, Bird City\, Out of Bounds Fest in Austin\, and and Blue Whale Comedy In Tulsa. &nbsp\;\n\nShe's performed in comedy clubs\, colleges&nbsp\;and "good old fashioned dive bars" across&nbsp\;Texas. In 2017 she landed a spot on the third season of the PBS documentary-series "Stand Up Empire\," which profiles Austin's&nbsp\;comedians.&nbsp\;\n
URL;VALUE=URI:https://augustana.edu/about-us/events/2020/comedian-jasmine-ellis
SUMMARY:Comedian Jasmine Ellis
DTSTART:20200912T010000Z
END:VEVENT
END:VCALENDAR
