BEGIN:VCALENDAR
VERSION:2.0
PRODID:-//hacksw/handcal//NONSGML v1.0//EN
CALSCALE:GREGORIAN
BEGIN:VEVENT
DTEND:20230214T010000Z
UID: 69eb148826a85
DTSTAMP:20260424T015816Z
LOCATION:Carlsson Evald Hall
DESCRIPTION:Club Ed invites future and current education majors to its first meeting of the semester. The activity will be "brain breaks."\n\nLearn about the education department at Augustana and find out about fun\, educational activities.\n
URL;VALUE=URI:https://augustana.edu/about-us/events/2023/club-ed-meeting
SUMMARY:Club Ed meeting
DTSTART:20230214T010000Z
END:VEVENT
END:VCALENDAR
