BEGIN:VCALENDAR
VERSION:2.0
PRODID:-//hacksw/handcal//NONSGML v1.0//EN
CALSCALE:GREGORIAN
BEGIN:VEVENT
DTEND:20201111T000000Z
UID: 69eb2ea687702
DTSTAMP:20260424T034942Z
LOCATION:
DESCRIPTION:November's book is&nbsp\;Anxious People: A Novel&nbsp\;by Fredrick Backman.&nbsp\;\n\nFrom the #1&nbsp\;New York Times&nbsp\;bestselling author of&nbsp\;A Man Called Ove&nbsp\;and “writer of astonishing depth” (The Washington Times) comes a poignant\, charming novel about a crime that never took place\, a would-be bank robber who disappears into thin air\, and eight extremely anxious strangers who find they have more in common than they ever imagined.\n\nJoin the&nbsp\;Swenson Center's monthly book club to discuss books on Nordic topics or by Nordic authors.&nbsp\;\n
URL;VALUE=URI:https://augustana.edu/about-us/events/2020/nordic-book-club-november
SUMMARY:Nordic Book Club\, November
DTSTART:20201111T000000Z
END:VEVENT
END:VCALENDAR
