BEGIN:VCALENDAR
VERSION:2.0
PRODID:-//hacksw/handcal//NONSGML v1.0//EN
CALSCALE:GREGORIAN
BEGIN:VEVENT
DTEND:20201008T153000Z
UID: 69e5e310db681
DTSTAMP:20260420T032552Z
LOCATION:
DESCRIPTION:The student group Boundless Health and Wellness will give out free health and wellness kits (hand sanitizer\, a reusable mask&nbsp\;and custom Augie backpack button) to those who follow the group on Instagram. Giveaway starts at 10:30 a.m. and quantities are limited.\n\nThe student group&nbsp\;meets biweekly from 4:30-5:30 p.m. on Tuesdays. Its next&nbsp\;meeting is Oct. 6 via Google Meet.\n\nThe group is looking for members and new executive members. All students are welcome.\n
URL;VALUE=URI:https://augustana.edu/about-us/events/2020/boundless-health-and-wellness-giveaway
SUMMARY:Boundless Health and Wellness giveaway
DTSTART:20201008T153000Z
END:VEVENT
END:VCALENDAR
