BEGIN:VCALENDAR
VERSION:2.0
PRODID:-//hacksw/handcal//NONSGML v1.0//EN
CALSCALE:GREGORIAN
BEGIN:VEVENT
DTEND:20161208T173000Z
UID: 69e4c73d6d02e
DTSTAMP:20260419T071453Z
LOCATION:The Gerber Center for Student Life
DESCRIPTION:The Salon is a weekly gathering of students\, faculty and staff to talk about ideas and shared experiences. During winter term\, the question we are exploring is: Apocalypse now?\n\nToday's discussion leader is Charles Rice-Davis\, visiting assistant professor of French.\n\nHere are other dates and discussion leaders:\n\nDec. 15: George Boone (Business Administration)\nJan. 12: Chris Jones (Religion)\nJan. 19: Tristan Coughlin (Economics)\nJan. 26: Mike Reisner (Upper Mississippi Center)&nbsp\;\nFeb. 2: Ian Davis (Communication Studies)\nFeb. 9: Doug Parvin (Philosophy)\n
URL;VALUE=URI:https://augustana.edu/about-us/events/2016/salon-apocalypse-now-0
SUMMARY:The Salon: Apocalypse now?
DTSTART:20161208T173000Z
END:VEVENT
END:VCALENDAR
