BEGIN:VCALENDAR
VERSION:2.0
PRODID:-//hacksw/handcal//NONSGML v1.0//EN
CALSCALE:GREGORIAN
BEGIN:VEVENT
DTEND:20201110T220000Z
UID: 69e982d1a8db8
DTSTAMP:20260422T212417Z
LOCATION:
DESCRIPTION:CORE will offer one in its series of Panel of Professionals:. Today's discussion is about psychology majors in careers not requiring advanced degrees.\n\nLearn first-hand from career professionals about their career paths\, challenges along the way\, and tips for future success. This is a&nbsp\;panel of alumni and professionals within the work force who are using their psychology degrees without having had to attend graduate/professional school.\n
URL;VALUE=URI:https://augustana.edu/about-us/events/2020/panel-professionals-psychology-careers
SUMMARY:Panel of Professionals: Psychology Careers
DTSTART:20201110T220000Z
END:VEVENT
END:VCALENDAR
