BEGIN:VCALENDAR
VERSION:2.0
PRODID:-//hacksw/handcal//NONSGML v1.0//EN
CALSCALE:GREGORIAN
BEGIN:VEVENT
DTEND:20201202T190000Z
UID: 69eadf4b2f08b
DTSTAMP:20260423T221107Z
LOCATION:
DESCRIPTION:Augustana Hillel will sponsor a virtual panel discussion\, "Religion in the COVID-19 Pandemic."&nbsp\;\n\nThis will be an interfaith conversation regarding the impact of COVID-19 on religious practices.\n\nPresenters include Dr. Jason Mahn\, Augustana professor of religion\, Rabbi Linda Bertenthal of Temple Emanuel in Davenport\, Iowa\, and Malhar Saheed\, advisor to the Muslim Student Association at Augustana.\n\nThere will be time for audience discussion and questions after the speakers.\n
URL;VALUE=URI:https://augustana.edu/about-us/events/2020/religion-covid-19-pandemic
SUMMARY:Religion in the COVID-19 Pandemic
DTSTART:20201202T190000Z
END:VEVENT
END:VCALENDAR
