BEGIN:VCALENDAR
VERSION:2.0
PRODID:-//hacksw/handcal//NONSGML v1.0//EN
CALSCALE:GREGORIAN
BEGIN:VEVENT
DTEND:20201119T140000Z
UID: 69e75559e9b8f
DTSTAMP:20260421T054545Z
LOCATION:The Gerber Center for Student Life
DESCRIPTION:OISSS and OSL will be showcasing a video on loop all day in the Brew featuring Augie students throughout the day to commemorate International Men's Day.\n\nThe program is in conjunction with International Education Week\, an opportunity to celebrate the benefits of international education and exchange worldwide. This joint initiative of the U.S. Department of State and the U.S. Department of Education promotes programs that prepare Americans for a global environment and attract future leaders from abroad to study\, learn and exchange experiences.\n
URL;VALUE=URI:https://augustana.edu/about-us/events/2020/international-mens-day
SUMMARY:International Men's Day
DTSTART:20201119T140000Z
END:VEVENT
END:VCALENDAR
