BEGIN:VCALENDAR
VERSION:2.0
PRODID:-//hacksw/handcal//NONSGML v1.0//EN
CALSCALE:GREGORIAN
BEGIN:VEVENT
DTEND:20201119T153000Z
UID: 69e75cca6715f
DTSTAMP:20260421T061730Z
LOCATION:
DESCRIPTION:Students are invited to join the Office of International Student and Scholar Services for updates about F-1 visa student visas\, COVID testing\, and an immigration Q and A.\n\nAnother session will be held at 6:30 p.m.\n\nThe program is in conjunction with International Education Week\, an opportunity to celebrate the benefits of international education and exchange worldwide. This joint initiative of the U.S. Department of State and the U.S. Department of Education promotes programs that prepare Americans for a global environment and attract future leaders from abroad to study\, learn and exchange experiences.\n
URL;VALUE=URI:https://augustana.edu/about-us/events/2020/visa-and-immigration-updates-f-1-students
SUMMARY:Visa and immigration updates for F-1 students
DTSTART:20201119T153000Z
END:VEVENT
END:VCALENDAR
