BEGIN:VCALENDAR
VERSION:2.0
PRODID:-//hacksw/handcal//NONSGML v1.0//EN
CALSCALE:GREGORIAN
BEGIN:VEVENT
DTEND:20201120T003000Z
UID: 69e75ccfb60ce
DTSTAMP:20260421T061735Z
LOCATION:
DESCRIPTION:Faculty and staff are invited to join&nbsp\;OISSS as various updates are given to F-1 visa students on: visa and&nbsp\;immigration updates to F-1 students\, COVID testing\, and go over immigration Q and A.\n\nThe program is in conjunction with International Education Week\, an opportunity to celebrate the benefits of international education and exchange worldwide. This joint initiative of the U.S. Department of State and the U.S. Department of Education promotes programs that prepare Americans for a global environment and attract future leaders from abroad to study\, learn and exchange experiences.\n
URL;VALUE=URI:https://augustana.edu/about-us/events/2020/visa-and-immigration-updates-f-1-students-pm
SUMMARY:Visa and immigration updates for F-1 students
DTSTART:20201120T003000Z
END:VEVENT
END:VCALENDAR
