BEGIN:VCALENDAR
VERSION:2.0
PRODID:-//hacksw/handcal//NONSGML v1.0//EN
CALSCALE:GREGORIAN
BEGIN:VEVENT
DTEND:20170126T173000Z
UID: 69e4c71147cc5
DTSTAMP:20260419T071409Z
LOCATION:The Gerber Center for Student Life
DESCRIPTION:The Salon is a weekly gathering of students\, faculty and staff to talk about ideas and shared experiences. During winter term\, the question we are exploring is: Apocalypse now?\n\nToday's discussion leader is Mike Reisner\, assistant professor of environmental studies and director of the Upper Mississippi Studies Center.\n\nHere are other dates and discussion leaders:\n\nFeb. 2: Ian Davis (Communication Studies)\nFeb. 9: Doug Parvin (Philosophy)\n
URL;VALUE=URI:https://augustana.edu/about-us/events/2016/salon-apocalypse-now-4
SUMMARY:The Salon: Apocalypse now?
DTSTART:20170126T173000Z
END:VEVENT
END:VCALENDAR
