BEGIN:VCALENDAR
VERSION:2.0
PRODID:-//hacksw/handcal//NONSGML v1.0//EN
CALSCALE:GREGORIAN
BEGIN:VEVENT
DTEND:20170202T173000Z
UID: 69e4c710bf1ea
DTSTAMP:20260419T071408Z
LOCATION:The Gerber Center for Student Life
DESCRIPTION:he Salon is a weekly gathering of students\, faculty and staff to talk about ideas and shared experiences. During winter term\, the question we are exploring is: Apocalypse now?\n\nToday's discussion leader is Ian Davis\, visiting assistant professor of communication studies.\n\nHere are other dates and discussion leaders:\n\nFeb. 9: Doug Parvin (Philosophy)\n
URL;VALUE=URI:https://augustana.edu/about-us/events/2016/salon-apocalypse-now-5
SUMMARY:The Salon: Apocalypse now?
DTSTART:20170202T173000Z
END:VEVENT
END:VCALENDAR
