BEGIN:VCALENDAR
VERSION:2.0
PRODID:-//hacksw/handcal//NONSGML v1.0//EN
CALSCALE:GREGORIAN
BEGIN:VEVENT
DTEND:20210121T020000Z
UID: 69e8bda76441f
DTSTAMP:20260422T072303Z
LOCATION:
DESCRIPTION:Campus Ministries will hold its weekly service&nbsp\;with Pastor Melinda Pupillo.&nbsp\;\n
URL;VALUE=URI:https://augustana.edu/about-us/events/2021/chapel
SUMMARY:Wednesday Chapel
DTSTART:20210121T020000Z
END:VEVENT
END:VCALENDAR
