BEGIN:VCALENDAR
VERSION:2.0
PRODID:-//hacksw/handcal//NONSGML v1.0//EN
CALSCALE:GREGORIAN
BEGIN:VEVENT
DTEND:20210204T020000Z
UID: 69e859f21cbbe
DTSTAMP:20260422T001738Z
LOCATION:
DESCRIPTION:Campus Ministries will hold its weekly service&nbsp\;with Pastor Melinda Pupillo.&nbsp\;\n
URL;VALUE=URI:https://augustana.edu/about-us/events/2021/wednesday-chapel-0203
SUMMARY:Wednesday Chapel
DTSTART:20210204T020000Z
END:VEVENT
END:VCALENDAR
