BEGIN:VCALENDAR
VERSION:2.0
PRODID:-//hacksw/handcal//NONSGML v1.0//EN
CALSCALE:GREGORIAN
BEGIN:VEVENT
DTEND:20210218T020000Z
UID: 69e900368835c
DTSTAMP:20260422T120702Z
LOCATION:Bahls Campus Leadership Center
DESCRIPTION:Chaplain Melinda Pupillo will offer two identical Ash Wednesday services at 8&nbsp\;p.m. and again at 8:30 p.m.&nbsp\;\n\nThis is being done in order to allow social distancing at each service. All are welcome to come to&nbsp\;either service.\n
URL;VALUE=URI:https://augustana.edu/about-us/events/2021/wednesday-chapel-ash-wednesday
SUMMARY:Wednesday Chapel Ash Wednesday
DTSTART:20210218T020000Z
END:VEVENT
END:VCALENDAR
