BEGIN:VCALENDAR
VERSION:2.0
PRODID:-//hacksw/handcal//NONSGML v1.0//EN
CALSCALE:GREGORIAN
BEGIN:VEVENT
DTEND:20210320T000000Z
UID: 69e72f5286146
DTSTAMP:20260421T030330Z
LOCATION:Olin Center for Educational Technology
DESCRIPTION:The Office of International Student and Scholar Services (OISSS) invites the community to a screening of "Minari"&nbsp\;as part of the International Film Series. "Minari" tells a story about a Korean American family that moves to an Arkansas farm in search of its own American dream.\n\nRegistration is required to attend.\n
URL;VALUE=URI:https://augustana.edu/about-us/events/2021/movie-night-minari
SUMMARY:Movie night - Minari
DTSTART:20210320T000000Z
END:VEVENT
END:VCALENDAR
