BEGIN:VCALENDAR
VERSION:2.0
PRODID:-//hacksw/handcal//NONSGML v1.0//EN
CALSCALE:GREGORIAN
BEGIN:VEVENT
DTEND:20210312T230000Z
UID: 69eb615fb08d7
DTSTAMP:20260424T072607Z
LOCATION:Hanson Hall of Science
DESCRIPTION:The Multicultural Programming Board invites the campus community to a campus awareness movie followed by an honest conversation.\n
URL;VALUE=URI:https://augustana.edu/about-us/events/2021/mpb-movie-night-and-honest-conversation
SUMMARY:MPB movie night and honest conversation
DTSTART:20210312T230000Z
END:VEVENT
END:VCALENDAR
