BEGIN:VCALENDAR
VERSION:2.0
PRODID:-//hacksw/handcal//NONSGML v1.0//EN
CALSCALE:GREGORIAN
BEGIN:VEVENT
DTEND:20210323T000000Z
UID: 69eac76bae2d6
DTSTAMP:20260423T202915Z
LOCATION:The Gerber Center for Student Life
DESCRIPTION:The Office of Student Life will present speed painter Evan Struck&nbsp\;in celebration of&nbsp\;Blue\, Gold and Bold\, Augustana's annual day of giving.\n\nStruck is known as ''America's Interactive Speed Painter.''&nbsp\;Every painting is completed in only 5-10 minutes\, while incorporating theatrical and sometimes multiple canvases\, black lights and audience participation.\n
URL;VALUE=URI:https://augustana.edu/about-us/events/2021/late-night-speed-painter-evan-struck2
SUMMARY:Blue\, Gold and Bold: speed painter Evan Struck
DTSTART:20210323T000000Z
END:VEVENT
END:VCALENDAR
