BEGIN:VCALENDAR
VERSION:2.0
PRODID:-//hacksw/handcal//NONSGML v1.0//EN
CALSCALE:GREGORIAN
BEGIN:VEVENT
DTEND:20210425T210000Z
UID: 69ea8b05620cf
DTSTAMP:20260423T161133Z
LOCATION:Hanson Hall of Science
DESCRIPTION:Augustana Campus Ministries will hold pop-up worship services this semester&nbsp\;around campus. All services begin at 4 p.m.\n\nToday's theme is a Celtic earth mass.\n
URL;VALUE=URI:https://augustana.edu/about-us/events/2021/pop-worship-service-1
SUMMARY:Pop-up worship service
DTSTART:20210425T210000Z
END:VEVENT
END:VCALENDAR
