BEGIN:VCALENDAR
VERSION:2.0
PRODID:-//hacksw/handcal//NONSGML v1.0//EN
CALSCALE:GREGORIAN
BEGIN:VEVENT
DTEND:20210327T010000Z
UID: 69e85dcf8559f
DTSTAMP:20260422T003407Z
LOCATION:The Gerber Center for Student Life
DESCRIPTION:The Office of Student Life will host a Cultural Trivia night to test your knowledge on different cultures around the world and win prizes&nbsp\;\n\nThere are two trivia sessions\, one at 8 p.m. and one at 9 p.m. There is a maximum limit of seven groups per session. Each group can have two-to-four people.\n\nOSL will email each group the session to attend to after the signup deadline of March 23.\n
URL;VALUE=URI:https://augustana.edu/about-us/events/2021/cultural-trivia-night
SUMMARY:Cultural Trivia Night
DTSTART:20210327T010000Z
END:VEVENT
END:VCALENDAR
