BEGIN:VCALENDAR
VERSION:2.0
PRODID:-//hacksw/handcal//NONSGML v1.0//EN
CALSCALE:GREGORIAN
BEGIN:VEVENT
DTEND:20210405T160000Z
UID: 69eba146ea5aa
DTSTAMP:20260424T115846Z
LOCATION:
DESCRIPTION:The Student Government Association will host an Easter Monday egg hunt.\n
URL;VALUE=URI:https://augustana.edu/about-us/events/2021/sga-egg-hunt
SUMMARY:SGA egg hunt
DTSTART:20210405T160000Z
END:VEVENT
END:VCALENDAR
