BEGIN:VCALENDAR
VERSION:2.0
PRODID:-//hacksw/handcal//NONSGML v1.0//EN
CALSCALE:GREGORIAN
BEGIN:VEVENT
DTEND:20210410T200000Z
UID: 69eba12224337
DTSTAMP:20260424T115810Z
LOCATION:The Gerber Center for Student Life
DESCRIPTION:DAT Poetry Lounge will celebrate&nbsp\;National Poetry Month with events throughout April. Today's event is “What is Poetry?"\n
URL;VALUE=URI:https://augustana.edu/about-us/events/2021/what-poetry
SUMMARY:What is Poetry?
DTSTART:20210410T200000Z
END:VEVENT
END:VCALENDAR
