BEGIN:VCALENDAR
VERSION:2.0
PRODID:-//hacksw/handcal//NONSGML v1.0//EN
CALSCALE:GREGORIAN
BEGIN:VEVENT
DTEND:20210411T010000Z
UID: 69eba11d1f01d
DTSTAMP:20260424T115805Z
LOCATION:The Gerber Center for Student Life
DESCRIPTION:Students Julian Pacheco\,&nbsp\;Sophia Osborn and&nbsp\;William Crouch will compete to be the&nbsp\;Last Comic Standing!\n\nAlong with these comics\, there will be a performance by improv group Heywire\, giveaways and raffles.\n\nThe annual Last Comic Standing competition is sponsored by&nbsp\;the Multicultural Programming Board&nbsp\;Comedy Club Series.\n\nEvery year\, students have the chance to showcase their comedic talents to the rest of the school. Tryouts are held weeks before the show and upon passing the first round\, student performers display their talents in a short&nbsp\;act during the show.&nbsp\;\n
URL;VALUE=URI:https://augustana.edu/about-us/events/2021/last-comic-standing
SUMMARY:Last Comic Standing
DTSTART:20210411T010000Z
END:VEVENT
END:VCALENDAR
