BEGIN:VCALENDAR
VERSION:2.0
PRODID:-//hacksw/handcal//NONSGML v1.0//EN
CALSCALE:GREGORIAN
BEGIN:VEVENT
DTEND:20210417T230000Z
UID: 69eba121ce588
DTSTAMP:20260424T115809Z
LOCATION:Brunner Theatre Center
DESCRIPTION:Augustana will present a '60s reimagining of the Gilbert and Sullivan light opera "The Pirates of Penzance" April 15-18.\n\n(This performance originally was scheduled for April 10 but was not held due to inclement weather. Tickets purchased for April 10 will be honored.)\n\nAll performances begin at 6 p.m.&nbsp\; A limited number of tickets is available to students and employees only.\n\nThe show is directed by junior Noah Hill\, a theatre arts major from Cisne\, Ill.\n\n→ Learn more about the cast and crew.\n
URL;VALUE=URI:https://augustana.edu/about-us/events/2021/pirates-penzance3
SUMMARY:Pirates of Penzance
DTSTART:20210417T230000Z
END:VEVENT
END:VCALENDAR
