BEGIN:VCALENDAR
VERSION:2.0
PRODID:-//hacksw/handcal//NONSGML v1.0//EN
CALSCALE:GREGORIAN
BEGIN:VEVENT
DTEND:20210504T213000Z
UID: 69e80f12b20b5
DTSTAMP:20260421T185810Z
LOCATION:
DESCRIPTION:The Office of Diversity\, Equity and Inclusion\, and Women\, Gender and Sexuality Studies&nbsp\;will host&nbsp\;Dine and Dialogue: Survive\, Adapt\, Thrive!\n\nAmita Mehta\, founder of AMP Consulting\, will lead an interactive session in relation to LGBTQ+ inclusion and allyship.\n\nThere will be a Q&amp\;A\, and those attending will receive&nbsp\;a Safe Zone door sticker.\n
URL;VALUE=URI:https://augustana.edu/about-us/events/2021/safe-zone-thrive
SUMMARY:Dine and Dialogue: Survive\, Adapt\, Thrive!
DTSTART:20210504T213000Z
END:VEVENT
END:VCALENDAR
