BEGIN:VCALENDAR
VERSION:2.0
PRODID:-//hacksw/handcal//NONSGML v1.0//EN
CALSCALE:GREGORIAN
BEGIN:VEVENT
DTEND:20220910T180000Z
UID: 69e8738beeff9
DTSTAMP:20260422T020651Z
LOCATION:Lower Quad
DESCRIPTION:The Multicultural Programming Board’s annual Cultural Fest offers a chance&nbsp\;to learn about new cultures while enjoying food\, drinks&nbsp\;and music from around the world. The event will run from 1-4 p.m.\n\nMeet the Augustana culture groups\, complete fun activities\, enjoy delicious dishes from local restaurants\, and music and dance by the QC Baile Folklorico.\n\nThere will be free T-shirts\, tote bags\, snow&nbsp\;cones\, and food.&nbsp\;There will also be trivia games with a special prize\nand dancing.\n\nBring your swimsuit for a water balloon fight&nbsp\;towards the end of the event.\n
URL;VALUE=URI:https://augustana.edu/about-us/events/2022/culture-fest
SUMMARY:Culture Fest
DTSTART:20220910T180000Z
END:VEVENT
END:VCALENDAR
